BEGIN:VCALENDAR
VERSION:2.0
PRODID:-//David Erler - ECPv6.15.17.1//NONSGML v1.0//EN
CALSCALE:GREGORIAN
METHOD:PUBLISH
X-WR-CALNAME:David Erler
X-ORIGINAL-URL:https://daviderler.de
X-WR-CALDESC:Veranstaltungen für David Erler
REFRESH-INTERVAL;VALUE=DURATION:PT1H
X-Robots-Tag:noindex
X-PUBLISHED-TTL:PT1H
BEGIN:VTIMEZONE
TZID:UTC
BEGIN:STANDARD
TZOFFSETFROM:+0000
TZOFFSETTO:+0000
TZNAME:UTC
DTSTART:20240101T000000
END:STANDARD
END:VTIMEZONE
BEGIN:VTIMEZONE
TZID:Europe/Berlin
BEGIN:DAYLIGHT
TZOFFSETFROM:+0100
TZOFFSETTO:+0200
TZNAME:CEST
DTSTART:20250330T010000
END:DAYLIGHT
BEGIN:STANDARD
TZOFFSETFROM:+0200
TZOFFSETTO:+0100
TZNAME:CET
DTSTART:20251026T010000
END:STANDARD
BEGIN:DAYLIGHT
TZOFFSETFROM:+0100
TZOFFSETTO:+0200
TZNAME:CEST
DTSTART:20260329T010000
END:DAYLIGHT
BEGIN:STANDARD
TZOFFSETFROM:+0200
TZOFFSETTO:+0100
TZNAME:CET
DTSTART:20261025T010000
END:STANDARD
BEGIN:DAYLIGHT
TZOFFSETFROM:+0100
TZOFFSETTO:+0200
TZNAME:CEST
DTSTART:20270328T010000
END:DAYLIGHT
BEGIN:STANDARD
TZOFFSETFROM:+0200
TZOFFSETTO:+0100
TZNAME:CET
DTSTART:20271031T010000
END:STANDARD
END:VTIMEZONE
BEGIN:VEVENT
DTSTART;TZID=UTC:20260412T180000
DTEND;TZID=UTC:20260412T180000
DTSTAMP:20260426T024014
CREATED:20260312T204919Z
LAST-MODIFIED:20260312T204919Z
UID:4043-1776016800-1776016800@daviderler.de
SUMMARY:Jacob Regnart: "Mariale"
DESCRIPTION:AVE REGINA COELORUM – Jacob Regnarts „Mariale“ \n  \nWeser-Renaissance Bremen:\nAndrew Hallock – Superius\nDavid Erler – Alt\nChristian Volkmann\, Tore Tom Denys\, William Knight – Tenor\nKees Jan de Koning – Baß \nAnna Schall – Zink\nAlma Stoye\, Aleksandra Maglevanaia\, Hille Perl – Viola da gamba\nEva-Maria Horn – Dulzian \nLeitung: Manfred Cordes
URL:https://daviderler.de/termin/jacob-regnart-mariale/
LOCATION:Bremen\, Unser Lieben Frauen Kirche\, Unser Lieben Frauen Kirchhof 27-29\, Bremen\, 28195\, Deutschland
END:VEVENT
BEGIN:VEVENT
DTSTART;TZID=UTC:20260403T170000
DTEND;TZID=UTC:20260403T170000
DTSTAMP:20260426T024014
CREATED:20260312T204642Z
LAST-MODIFIED:20260312T204642Z
UID:4040-1775235600-1775235600@daviderler.de
SUMMARY:Johann Sebastian Bach: Johannespassion
DESCRIPTION:Johann Sebastian Bach\nJohannespassion (BWV 245) \n  \nDorothee Mields – Sopran\nDavid Erler – Alt\nHans Jörg Mammel – Tenor\nCornelius Uhle – Baß (Christusworte)\nMatthias Vieweg – Baß (Arien)\nRostocker Motettenchor\nAkademie für Alte Musik Berlin \nLeitung: KMD Markus Langer
URL:https://daviderler.de/termin/johann-sebastian-bach-johannespassion-11/
LOCATION:St.-Nikolai-Kirche Rostock\, Bei der Nikolaikirche 1\, Rostock\, 18055\, Deutschland
END:VEVENT
BEGIN:VEVENT
DTSTART;TZID=UTC:20260329T170000
DTEND;TZID=UTC:20260329T170000
DTSTAMP:20260426T024014
CREATED:20260312T204308Z
LAST-MODIFIED:20260326T134437Z
UID:4038-1774803600-1774803600@daviderler.de
SUMMARY:Johann Sebastian Bach: Johannespassion
DESCRIPTION:Johann Sebastian Bach\nJohannespassion (BWV 245) \n  \nConcerto Vocale\nSächsisches Barockorchester\nLeitung: Gotthold Schwarz
URL:https://daviderler.de/termin/johann-sebastian-bach-johannespassion-10/
LOCATION:Panitzsch\, Kirche\, Lange Straße 17\, Borsdorf OT Panitzsch\, 04451\, Germany
END:VEVENT
BEGIN:VEVENT
DTSTART;TZID=UTC:20260328T193000
DTEND;TZID=UTC:20260328T193000
DTSTAMP:20260426T024014
CREATED:20260312T203957Z
LAST-MODIFIED:20260312T203957Z
UID:4034-1774726200-1774726200@daviderler.de
SUMMARY:Christian Gotthelf Scheinpflug: Die Pilgrime auf Golgatha
DESCRIPTION:Christian Gotthelf Scheinpflug\nDie Pilgrime auf Golgatha (1757)\nEin musikalisches Drama\n(erstmalige Wiederaufführung) \n  \nHeidi Maria Taubert – Sopran\nDavid Erler – Altus\nTobias Hunger – Tenor\nWolf Matthias Friedrich – Baß\nTelemannisches Collegium Michaelstein\nLeitung: David Fasold
URL:https://daviderler.de/termin/christian-gotthelf-scheinpflug-die-pilgrime-auf-golgatha/
LOCATION:Kloster Michaelstein\, Michaelstein 3\, Blankenburg (Harz)\, 38889\, Germany
END:VEVENT
BEGIN:VEVENT
DTSTART;TZID=UTC:20260324T190000
DTEND;TZID=UTC:20260324T190000
DTSTAMP:20260426T024014
CREATED:20260312T203457Z
LAST-MODIFIED:20260312T203457Z
UID:4032-1774378800-1774378800@daviderler.de
SUMMARY:Johann Sebastian Bach: Johannespassion
DESCRIPTION:Anja Pöche – Sopran\nDavid Erler – Altus\nTobias Hunger – Tenor\nTobias Ay – Baß (Arien)\nGotthold Schwarz – Bass (Christus) \nHimmlischer Chor Japan\nSächsisches Barockorchester\nLeitung: Akiyasu Fukushima
URL:https://daviderler.de/termin/johann-sebastian-bach-johannespassion-9/
LOCATION:Thomaskirche Leipzig\, Thomaskirchhof\, Leipzig\, 04109\, Deutschland
END:VEVENT
BEGIN:VEVENT
DTSTART;TZID=UTC:20260322T170000
DTEND;TZID=UTC:20260322T170000
DTSTAMP:20260426T024014
CREATED:20260312T203246Z
LAST-MODIFIED:20260312T203246Z
UID:4030-1774198800-1774198800@daviderler.de
SUMMARY:Johann Sebastian Bach: Matthäuspassion
DESCRIPTION:Johann Sebastian Bach\nMatthäuspassion (BWV 244) \n  \nGela Birckenstaedt – Sopran\nDavid Erler – Alt\nDaniel Sans – Tenor\nKlaus Mertens – Baß (Arien)\nEckehard Abele – Baß (Christus) \nKatholische Kantorei Dillenburg\nEnsemble Sansibel und Ensemble Wirsing Querbeet \nCapella Principale\nLeitung: Joachim Dreher
URL:https://daviderler.de/termin/johann-sebastian-bach-matthaeuspassion-4/
LOCATION:Katholische Pfarrkirche Herz Jesu Dillenburg\, Wilhelmsplatz 16\, Dillenburg\, 35683\, Deutschland
END:VEVENT
BEGIN:VEVENT
DTSTART;TZID=Europe/Berlin:20260314T180000
DTEND;TZID=Europe/Berlin:20260314T180000
DTSTAMP:20260426T024014
CREATED:20260306T214831Z
LAST-MODIFIED:20260312T202842Z
UID:4025-1773511200-1773511200@daviderler.de
SUMMARY:Johann Sebastian Bach: Markuspassion
DESCRIPTION:Johann Sebastian Bach\nMarkuspassion (BWV 247) \n  \nAnja Petersen – Sopran\nDavid Erler – Alt\nHans Jörg Mammel – Tenor\nErik Rossbander – Sprecher \nJunge Kantorei St. Ansgarii\nKantorei St. Ansgarii\nNorddeutsches Barock-Collegium \nLeitung: Kai Niko Henke
URL:https://daviderler.de/termin/j-s-bach-markuspassion/
LOCATION:St. Ansgarii Bremen\, Schwachhauser Heerstr. 40\, Bremen\, 28209\, Deutschland
END:VEVENT
BEGIN:VEVENT
DTSTART;TZID=Europe/Berlin:20260313T190000
DTEND;TZID=Europe/Berlin:20260313T190000
DTSTAMP:20260426T024014
CREATED:20260306T214558Z
LAST-MODIFIED:20260306T214558Z
UID:4023-1773428400-1773428400@daviderler.de
SUMMARY:Internationales Bachfest Stuttgart - Eröffnungskonzert
DESCRIPTION:Internationales Bachfest Stuttgart\n#01 Eröffnungs­konzert: Klangpracht des Dresdner Barock\n  \nJohann David Heinichen\nMissa Nr. 12\, D-Dur\nJan Dismas Zelenka\nMissa dei Filii ZWV 20 \n  \nMagdalene Harer – Sopran\nDavid Erler – Altus\nBenedikt Kristjánsson – Tenor\nJonas Müller – Baß\nGaechinger Cantorey\nLeitung: Hans-Christoph Rademann
URL:https://daviderler.de/termin/internationales-bachfest-stuttgart-eroeffnungskonzert/
LOCATION:Stiftskirche Stuttgart\, Stiftstraße 12\, Stuttgart\, 70173\, Deutschland
END:VEVENT
BEGIN:VEVENT
DTSTART;TZID=Europe/Berlin:20260301T180000
DTEND;TZID=Europe/Berlin:20260301T180000
DTSTAMP:20260426T024014
CREATED:20260228T223155Z
LAST-MODIFIED:20260228T223155Z
UID:4017-1772388000-1772388000@daviderler.de
SUMMARY:Mein einigs Herz - Liebeslieder und Villanellen von Regnart und Lechner
DESCRIPTION:Konzertzyklus 2025 / 2026 \nDie goldene Stadt\nMusik aus dem kaiserlichen Prag\nJacob Regnart & Leonhard Lechner\nLiebeslieder und Villanellen \n  \nWeser-Renaissance Bremen \nMarie Luise Werneburg\, Christina Boner – Sopran\nDavid Erler – Alt\nMirko Ludwig\, Tore Tom Denys – Tenor\nFelix Schwandtke – Baß\nJoachim Held – Laute \nLeitung: Manfred Cordes
URL:https://daviderler.de/termin/mein-einigs-herz-liebeslieder-und-villanellen-von-regnart-und-lechner/
LOCATION:Bremen\, Unser Lieben Frauen Kirche\, Unser Lieben Frauen Kirchhof 27-29\, Bremen\, 28195\, Deutschland
END:VEVENT
BEGIN:VEVENT
DTSTART;TZID=UTC:20251231T160000
DTEND;TZID=UTC:20251231T160000
DTSTAMP:20260426T024014
CREATED:20251126T184024Z
LAST-MODIFIED:20251126T184024Z
UID:3999-1767196800-1767196800@daviderler.de
SUMMARY:Jan Dismas Zelenka: Missa votiva
DESCRIPTION:Silvesterkonzert des a-cappella Kammerchores Freiberg\n  \nJan Dismas Zelenka:\nMissa votiva (ZWV 18) \nAntonio Lotti:\nDixit Dominus \n  \nStephanie Kaiser\, Friederike Urban – Sopran\nDavid Erler – Altus\nMichael Schaffrath – Tenor\nClemens Heidrich – Baß \nA-cappella Kammerchor Freiberg\nDresdner Barockorchester \nLeitung: Peter Kubisch
URL:https://daviderler.de/termin/jan-dismas-zelenka-missa-votiva/
LOCATION:Freiberg\, Nikolaikirche\, An der Nikolaikirche\, Freiberg\, 09599\, Germany
END:VEVENT
BEGIN:VEVENT
DTSTART;TZID=UTC:20251228T170000
DTEND;TZID=UTC:20251228T170000
DTSTAMP:20260426T024014
CREATED:20250910T201017Z
LAST-MODIFIED:20250910T201017Z
UID:3954-1766941200-1766941200@daviderler.de
SUMMARY:Johann Sebastian Bach: Weihnachtsoratorium (I/III/IV)
DESCRIPTION:Johann Sebastian Bach\n„Weihnachts-Oratorium“ (BWV 248)\nKantaten I / III / IV \nCarla Hussong – Sopran\nDavid Erler – Altus\nFabian Strotmann – Tenor\nKlaus Mertens – Baß \nLüdenscheider Vokalensemble\nEnsemble L’Arco (Konzertmeister: Christoph Heidemann) \nLeitung: Patrick Kampf
URL:https://daviderler.de/termin/johann-sebastian-bach-weihnachtsoratorium-i-iii-iv-2/
LOCATION:Halver\, Kath. Kirchgemeinde Christus König\, Hermann-Köhler-Straße 15\, Halver\, 58553\, Germany
END:VEVENT
BEGIN:VEVENT
DTSTART;TZID=UTC:20251228T103000
DTEND;TZID=UTC:20251228T103000
DTSTAMP:20260426T024014
CREATED:20250910T201149Z
LAST-MODIFIED:20250910T201149Z
UID:3958-1766917800-1766917800@daviderler.de
SUMMARY:Gottesdienst mit Bachkantate (BWV 248/III)
DESCRIPTION:Musikalischer Gottesdienst \nJohann Sebastian Bach\n„Herrscher des Himmels\, erhöre das Lallen“ (BWV 248/III) \nCarla Hussong – Sopran\nDavid Erler – Altus\nFabian Strotmann – Tenor\nKlaus Mertens – Baß \nLüdenscheider Vokalensemble\nEnsemble L’Arco (Konzertmeister: Christoph Heidemann) \nLeitung: Patrick Kampf
URL:https://daviderler.de/termin/gottesdienst-mit-bachkantate-bwv-248-iii/
LOCATION:Erlöserkirche Lüdenscheid\, Kirchplatz 11\, Lüdenscheid\, 58511\, Germany
END:VEVENT
BEGIN:VEVENT
DTSTART;TZID=UTC:20251227T181500
DTEND;TZID=UTC:20251227T181500
DTSTAMP:20260426T024014
CREATED:20250910T200805Z
LAST-MODIFIED:20250910T200805Z
UID:3951-1766859300-1766859300@daviderler.de
SUMMARY:Johann Sebastian Bach: Weihnachtsoratorium (I/III/IV)
DESCRIPTION:Johann Sebastian Bach\n„Weihnachts-Oratorium“ (BWV 248)\nKantaten I / III / IV \nCarla Hussong – Sopran\nDavid Erler – Altus\nFabian Strotmann – Tenor\nKlaus Mertens – Baß \nLüdenscheider Vokalensemble\nEnsemble L’Arco (Konzertmeister: Christoph Heidemann) \nLeitung: Patrick Kampf
URL:https://daviderler.de/termin/johann-sebastian-bach-weihnachtsoratorium-i-iii-iv/
LOCATION:Erlöserkirche Lüdenscheid\, Kirchplatz 11\, Lüdenscheid\, 58511\, Germany
END:VEVENT
BEGIN:VEVENT
DTSTART;TZID=UTC:20251221T170000
DTEND;TZID=UTC:20251221T170000
DTSTAMP:20260426T024014
CREATED:20250910T200051Z
LAST-MODIFIED:20250910T200051Z
UID:3949-1766336400-1766336400@daviderler.de
SUMMARY:Italienische Weihnacht
DESCRIPTION:Weihnachtskonzert mit Werken von\nAntonio Vivaldi\, Giovanni Battista Bassani u.a. \n  \nDavid Erler – Alt \nKantorei Schwedt\nLeitung: Kantor Andreas Kessler
URL:https://daviderler.de/termin/italienische-weihnacht/
LOCATION:Schwedt\, St. Katharinenkirche\, Oderstraße 35\, Schwedt/Oder\, 16303\, Deutschland
END:VEVENT
BEGIN:VEVENT
DTSTART;TZID=UTC:20251220T190000
DTEND;TZID=UTC:20251220T190000
DTSTAMP:20260426T024014
CREATED:20251126T165034Z
LAST-MODIFIED:20251205T134720Z
UID:3995-1766257200-1766257200@daviderler.de
SUMMARY:Johann Sebastian Bach: Weihnachtsoratorium (I-III)
DESCRIPTION:Johann Sebastian Bach\n„Weihnachts-Oratorium“ (BWV 248)\nKantaten I – III \nAnja Pöche – Sopran\nDavid Erler – Alt\nChristian Pohlers – Tenor\nEmanuel Jessel – Baß \nBach-Consort Leipzig\nSächsisches Barockorchester \nLeitung: Gotthold Schwarz
URL:https://daviderler.de/termin/johann-sebastian-bach-weihnachtsoratorium-i-iii-2/
LOCATION:Bad Sooden-Allendorf\, Kirche St. Crucis\, Kirchplatz 1\, Bad Sooden-Allendorf\, 37242\, Germany
END:VEVENT
BEGIN:VEVENT
DTSTART;TZID=UTC:20251219T190000
DTEND;TZID=UTC:20251219T190000
DTSTAMP:20260426T024014
CREATED:20251126T164610Z
LAST-MODIFIED:20251126T164610Z
UID:3991-1766170800-1766170800@daviderler.de
SUMMARY:Johann Sebastian Bach: Weihnachtsoratorium (I-III)
DESCRIPTION:Johann Sebastian Bach\n„Weihnachts-Oratorium“ (BWV 248)\nKantaten I – III \nAnja Pöche – Sopran\nDavid Erler – Alt\nChristian Pohlers – Tenor\nEmanuel Jessel – Baß \nBach-Consort Leipzig\nSächsisches Barockorchester \nLeitung: Gotthold Schwarz
URL:https://daviderler.de/termin/johann-sebastian-bach-weihnachtsoratorium-i-iii/
LOCATION:Bayreuth\, Schloßkirche\, Schloßberglein 3\, Bayreuth\, 95444\, Germany
END:VEVENT
BEGIN:VEVENT
DTSTART;TZID=UTC:20251207T110000
DTEND;TZID=UTC:20251207T110000
DTSTAMP:20260426T024014
CREATED:20250910T195759Z
LAST-MODIFIED:20250910T195759Z
UID:3947-1765105200-1765105200@daviderler.de
SUMMARY:Georg Friedrich Händel: Der Messias (Mozart-Fassung)
DESCRIPTION:Georg Friedrich Händel\n„Der Messias“\nFassung von Wolfgang Amadeus Mozart (KV 572) \n  \nLenneke Ruiten – Sopran\nDavid Erler – Alt\nRichard Resch – Tenor\nThomas E. Bauer – Bariton \nHofkapelle München\nChor der KlangVerwaltung\nLeitung: Rüdiger Lotter
URL:https://daviderler.de/termin/georg-friedrich-haendel-der-messias-mozart-fassung-3/
LOCATION:Konzerthaus Blaibach\, Kirchplatz 4\, Blaibach\, 93476\, Deutschland
END:VEVENT
BEGIN:VEVENT
DTSTART;TZID=UTC:20251206T180000
DTEND;TZID=UTC:20251206T180000
DTSTAMP:20260426T024014
CREATED:20250910T195717Z
LAST-MODIFIED:20250910T195717Z
UID:3945-1765044000-1765044000@daviderler.de
SUMMARY:Georg Friedrich Händel: Der Messias (Mozart-Fassung)
DESCRIPTION:Georg Friedrich Händel\n„Der Messias“\nFassung von Wolfgang Amadeus Mozart (KV 572) \n  \nLenneke Ruiten – Sopran\nDavid Erler – Alt\nRichard Resch – Tenor\nThomas E. Bauer – Bariton \nHofkapelle München\nChor der KlangVerwaltung\nLeitung: Rüdiger Lotter
URL:https://daviderler.de/termin/georg-friedrich-haendel-der-messias-mozart-fassung-2/
LOCATION:Konzerthaus Blaibach\, Kirchplatz 4\, Blaibach\, 93476\, Deutschland
END:VEVENT
BEGIN:VEVENT
DTSTART;TZID=UTC:20251205T190000
DTEND;TZID=UTC:20251205T190000
DTSTAMP:20260426T024014
CREATED:20250910T195624Z
LAST-MODIFIED:20250910T195624Z
UID:3943-1764961200-1764961200@daviderler.de
SUMMARY:Georg Friedrich Händel: Der Messias (Mozart-Fassung)
DESCRIPTION:Georg Friedrich Händel\n„Der Messias“\nFassung von Wolfgang Amadeus Mozart (KV 572) \n  \nLenneke Ruiten – Sopran\nDavid Erler – Alt\nRichard Resch – Tenor\nThomas E. Bauer – Bariton \nHofkapelle München\nChor der KlangVerwaltung\nLeitung: Rüdiger Lotter
URL:https://daviderler.de/termin/georg-friedrich-haendel-der-messias-mozart-fassung/
LOCATION:Kloster Aldersbach\, Freiherr-von-Aretin-Platz 1\, Aldersbach\, 94501\, Deutschland
END:VEVENT
BEGIN:VEVENT
DTSTART;TZID=UTC:20251130T180000
DTEND;TZID=UTC:20251130T180000
DTSTAMP:20260426T024014
CREATED:20250910T195316Z
LAST-MODIFIED:20250910T195316Z
UID:3940-1764525600-1764525600@daviderler.de
SUMMARY:Claudio Monteverdi (Marienvesper) & Andreas Hammerschmidt
DESCRIPTION:Marienvesper+\nClaudio Monteverdi\nVespro della Beata Vergine (Marienvesper) \nWerke von Andreas Hammerschmidt \n  \nViola Blache\, Heidi Maria Taubert – Sopran\nDavid Erler – Alt\nFlorian Sievers\, Christopher B. Fischer – Tenor\nTobias Wicky – Baß \nKammerchor Josquin des Prez\nStadtsingechor zu Halle\nLeipziger Barockorchester \nLeitung: Clemens Flämig
URL:https://daviderler.de/termin/claudio-monteverdi-marienvesper-andreas-hammerschmidt-2/
LOCATION:Marktkirche Halle (Saale)\, Marktplatz\, Halle (Saale)\, 06108\, Germany
END:VEVENT
BEGIN:VEVENT
DTSTART;TZID=UTC:20251129T193000
DTEND;TZID=UTC:20251129T193000
DTSTAMP:20260426T024014
CREATED:20250910T195024Z
LAST-MODIFIED:20250910T195024Z
UID:3938-1764444600-1764444600@daviderler.de
SUMMARY:Claudio Monteverdi (Marienvesper) & Andreas Hammerschmidt
DESCRIPTION:Marienvesper+\nClaudio Monteverdi\nVespro della Beata Vergine (Marienvesper) \nWerke von Andreas Hammerschmidt \n  \nViola Blache\, Heidi Maria Taubert – Sopran\nDavid Erler – Alt\nFlorian Sievers\, Christopher B. Fischer – Tenor\nTobias Wicky – Baß \nKammerchor Josquin des Prez\nStadtsingechor zu Halle\nLeipziger Barockorchester \nLeitung: Clemens Flämig
URL:https://daviderler.de/termin/claudio-monteverdi-marienvesper-andreas-hammerschmidt/
LOCATION:Thomaskirche Leipzig\, Thomaskirchhof\, Leipzig\, 04109\, Deutschland
END:VEVENT
BEGIN:VEVENT
DTSTART;TZID=UTC:20251123T180000
DTEND;TZID=UTC:20251123T180000
DTSTAMP:20260426T024014
CREATED:20250910T194559Z
LAST-MODIFIED:20250910T194559Z
UID:3935-1763920800-1763920800@daviderler.de
SUMMARY:Philipp de Monte: Madrigali Spirituali
DESCRIPTION:Konzertzyklus 2025 / 2026 \nDie goldene Stadt\nMusik aus dem kaiserlichen Prag\nPhilipp de Monte:\nMadrigali Spirituali \n  \nWeser-Renaissance Bremen \nMarie Luise Werneburg\, Erika Tandiono – Sopran\nDavid Erler – Alt\nJan van Elsacker\, Christian Volkmann – Tenor\nKees Jan de Koning – Baß\nMargit Schultheiß – Harfe \nLeitung: Manfred Cordes
URL:https://daviderler.de/termin/philipp-de-monte-madrigali-spirituali/
LOCATION:St. Ansgarii Bremen\, Schwachhauser Heerstr. 40\, Bremen\, 28209\, Deutschland
END:VEVENT
BEGIN:VEVENT
DTSTART;TZID=UTC:20251109T190000
DTEND;TZID=UTC:20251109T190000
DTSTAMP:20260426T024014
CREATED:20250910T194221Z
LAST-MODIFIED:20250910T194221Z
UID:3932-1762714800-1762714800@daviderler.de
SUMMARY:Johann Sebastian Bach: h-Moll-Messe (BWV 232)
DESCRIPTION:Johann Sebastian Bach\n„Hohe Messe“ in h-Moll (BWV 232) \nDitte Marie Bræin\, Frøydis Fegran Kopperud – Sopran\nDavid Erler – Alt\nWilliam Wallace – Tenor\nAlex Ashworth – Baß \nSandefjord kammerkor\nSangere fra Larvik Kantori \nBarokkanerne\nHuw Daniel – Konzertmeister \nLeitung: Svein Rustad
URL:https://daviderler.de/termin/johann-sebastian-bach-h-moll-messe-bwv-232-6/
LOCATION:Sandefjord (NO)\, Kunst- og kulturkirke\, Stockfleths gate 11\, Sandefjord\, 3210\, Norway
END:VEVENT
BEGIN:VEVENT
DTSTART;TZID=UTC:20251108T180000
DTEND;TZID=UTC:20251108T180000
DTSTAMP:20260426T024014
CREATED:20250910T193948Z
LAST-MODIFIED:20250910T193948Z
UID:3928-1762624800-1762624800@daviderler.de
SUMMARY:Johann Sebastian Bach: h-Moll-Messe (BWV 232)
DESCRIPTION:Johann Sebastian Bach\n„Hohe Messe“ in h-Moll (BWV 232) \nDitte Marie Bræin\, Frøydis Fegran Kopperud – Sopran\nDavid Erler – Alt\nWilliam Wallace – Tenor\nAlex Ashworth – Baß \nSandefjord kammerkor\nSangere fra Larvik Kantori \nBarokkanerne\nHuw Daniel – Konzertmeister \nLeitung: Svein Rustad
URL:https://daviderler.de/termin/johann-sebastian-bach-h-moll-messe-bwv-232-5/
LOCATION:Larvik (NO)\, Nanset kirke\, Vikingveien 9\, Larvik\, 3274\, Norway
END:VEVENT
BEGIN:VEVENT
DTSTART;TZID=UTC:20251102T170000
DTEND;TZID=UTC:20251102T170000
DTSTAMP:20260426T024014
CREATED:20250910T193335Z
LAST-MODIFIED:20250910T193335Z
UID:3926-1762102800-1762102800@daviderler.de
SUMMARY:#dresden - Heinrich Schütz und Matthias Weckmann
DESCRIPTION:#dresden\nVokal- und Instrumentalwerke von\nHeinrich Schütz und Matthias Weckmann \n  \nWeckmann-Consort  \nLea Suter – Orgel & künstlerische Leitung\nJuan González – Barockposaune\nCarla Linné – Violine\nJosquin Piguet – Zink\nClemens Schlemmer – Dulzian \nDavid Erler – Altus\nTobias Hunger – Tenor\nFelix Schwandtke – Baß
URL:https://daviderler.de/termin/dresden-heinrich-schuetz-und-matthias-weckmann-3/
LOCATION:Oldenburg\, St. Ansgar\, Edewechter Landstraße 23\, Oldenburg\, 26131\, Deutschland
END:VEVENT
BEGIN:VEVENT
DTSTART;TZID=UTC:20251101T190000
DTEND;TZID=UTC:20251101T190000
DTSTAMP:20260426T024014
CREATED:20250910T193215Z
LAST-MODIFIED:20250910T193215Z
UID:3923-1762023600-1762023600@daviderler.de
SUMMARY:#dresden - Heinrich Schütz und Matthias Weckmann
DESCRIPTION:#dresden\nVokal- und Instrumentalwerke von\nHeinrich Schütz und Matthias Weckmann \n  \nWeckmann-Consort  \nLea Suter – Orgel & künstlerische Leitung\nJuan González – Barockposaune\nCarla Linné – Violine\nJosquin Piguet – Zink\nClemens Schlemmer – Dulzian \nDavid Erler – Altus\nTobias Hunger – Tenor\nFelix Schwandtke – Baß
URL:https://daviderler.de/termin/dresden-heinrich-schuetz-und-matthias-weckmann-2/
LOCATION:St. Aegidien Lübeck\, Aegidienkirchhof 1-3\, Lübeck\, 23552\, Germany
END:VEVENT
BEGIN:VEVENT
DTSTART;TZID=UTC:20251031T190000
DTEND;TZID=UTC:20251031T190000
DTSTAMP:20260426T024014
CREATED:20250910T193029Z
LAST-MODIFIED:20250910T193029Z
UID:3919-1761937200-1761937200@daviderler.de
SUMMARY:#dresden - Heinrich Schütz und Matthias Weckmann
DESCRIPTION:#dresden\nVokal- und Instrumentalwerke von\nHeinrich Schütz und Matthias Weckmann \n  \nWeckmann-Consort  \nLea Suter – Orgel & künstlerische Leitung\nJuan González – Barockposaune\nCarla Linné – Violine\nJosquin Piguet – Zink\nClemens Schlemmer – Dulzian \nDavid Erler – Altus\nTobias Hunger – Tenor\nFelix Schwandtke – Baß
URL:https://daviderler.de/termin/dresden-heinrich-schuetz-und-matthias-weckmann/
LOCATION:Bad Bederkesa\, St. Jakobikirche\, Bergstr. 2\, Bad Bederkesa\, 27624\, Germany
END:VEVENT
BEGIN:VEVENT
DTSTART;TZID=UTC:20251026T160000
DTEND;TZID=UTC:20251026T160000
DTSTAMP:20260426T024014
CREATED:20250910T192403Z
LAST-MODIFIED:20250910T192403Z
UID:3917-1761494400-1761494400@daviderler.de
SUMMARY:HERRLICH UND WOHLBESTELLT – Musik aus dem alten Hamburg
DESCRIPTION:Herrlich und wohlbestellt – Hamburgs Musikkultur im 17. Jahrhundert\nKompositionen von Hieronymus Praetorius\, Jacob Praetorius\, Johann Schop\, Dietrich Becker\, Matthias Weckmann\, Christoph Bernhard\, und Thomas Selle \n  \nEuropäisches Hanse-Ensemble \nUlrike Hofbauer\, Franziska Blömer – Sopran\nDavid Erler – Alt\nJan van Elsacker\, Jan Fadri Hofstetter – Tenor\nVincent Berger – Baß \nJohannes Frisch\, Katarzyna Cendlak – Violine\nHille Perl\, Maria Danneberg – Viola da gamba\nHannah Voß – Dulzian\nFrithjof Smith\, Noemi Müller – Zink/Cornetto\nYung-Hsu Shih\, Christian Traute\, BJ Hernandez – Posaune\nMarcin Szelest – Orgel  \nLeitung: Manfred Cordes
URL:https://daviderler.de/termin/herrlich-und-wohlbestellt-musik-aus-dem-alten-hamburg-5/
LOCATION:St. Jakobi Lübeck\, Jakobikirchhof 3\, Lübeck\, 23552\, Deutschland
END:VEVENT
BEGIN:VEVENT
DTSTART;TZID=UTC:20251025T180000
DTEND;TZID=UTC:20251025T180000
DTSTAMP:20260426T024014
CREATED:20250910T192104Z
LAST-MODIFIED:20250910T192104Z
UID:3913-1761415200-1761415200@daviderler.de
SUMMARY:HERRLICH UND WOHLBESTELLT – Musik aus dem alten Hamburg
DESCRIPTION:Herrlich und wohlbestellt – Hamburgs Musikkultur im 17. Jahrhundert\nKompositionen von Hieronymus Praetorius\, Jacob Praetorius\, Johann Schop\, Dietrich Becker\, Matthias Weckmann\, Christoph Bernhard\, und Thomas Selle \n  \nEuropäisches Hanse-Ensemble \nUlrike Hofbauer\, Franziska Blömer – Sopran\nDavid Erler – Alt\nJan van Elsacker\, Jan Fadri Hofstetter – Tenor\nVincent Berger – Baß \nJohannes Frisch\, Katarzyna Cendlak – Violine\nHille Perl\, Maria Danneberg – Viola da gamba\nHannah Voß – Dulzian\nFrithjof Smith\, Noemi Müller – Zink/Cornetto\nYung-Hsu Shih\, Christian Traute\, BJ Hernandez – Posaune\nMarcin Szelest – Orgel  \nLeitung: Manfred Cordes
URL:https://daviderler.de/termin/herrlich-und-wohlbestellt-musik-aus-dem-alten-hamburg-4/
LOCATION:Hauptkirche St. Katharinen Hamburg\, Katharinenkirchhof 1\, Hamburg\, 20457\, Germany
END:VEVENT
BEGIN:VEVENT
DTSTART;TZID=UTC:20251024T163000
DTEND;TZID=UTC:20251024T163000
DTSTAMP:20260426T024014
CREATED:20250910T191747Z
LAST-MODIFIED:20250910T191747Z
UID:3910-1761323400-1761323400@daviderler.de
SUMMARY:HERRLICH UND WOHLBESTELLT – Musik aus dem alten Hamburg
DESCRIPTION:Herrlich und wohlbestellt – Hamburgs Musikkultur im 17. Jahrhundert\nKompositionen von Hieronymus Praetorius\, Jacob Praetorius\, Johann Schop\, Dietrich Becker\, Matthias Weckmann\, Christoph Bernhard\, und Thomas Selle \n  \nEuropäisches Hanse-Ensemble \nUlrike Hofbauer\, Franziska Blömer – Sopran\nDavid Erler – Alt\nJan van Elsacker\, Jan Fadri Hofstetter – Tenor\nVincent Berger – Baß \nJohannes Frisch\, Katarzyna Cendlak – Violine\nHille Perl\, Maria Danneberg – Viola da gamba\nHannah Voß – Dulzian\nFrithjof Smith\, Noemi Müller – Zink/Cornetto\nYung-Hsu Shih\, Christian Traute\, BJ Hernandez – Posaune\nMarcin Szelest – Orgel  \nLeitung: Manfred Cordes
URL:https://daviderler.de/termin/herrlich-und-wohlbestellt-musik-aus-dem-alten-hamburg-3/
LOCATION:Kopenhagen (DK)\, Trinitatis Kirke\, Landemærket 2\, København\, 1150\, Denmark
END:VEVENT
END:VCALENDAR